BEGIN:VCALENDAR
VERSION:2.0
PRODID:-//Mallory Park Circuit - ECPv6.15.18//NONSGML v1.0//EN
CALSCALE:GREGORIAN
METHOD:PUBLISH
X-WR-CALNAME:Mallory Park Circuit
X-ORIGINAL-URL:https://www.malloryparkcircuit.com
X-WR-CALDESC:Events for Mallory Park Circuit
REFRESH-INTERVAL;VALUE=DURATION:PT1H
X-Robots-Tag:noindex
X-PUBLISHED-TTL:PT1H
BEGIN:VTIMEZONE
TZID:Europe/London
BEGIN:DAYLIGHT
TZOFFSETFROM:+0000
TZOFFSETTO:+0100
TZNAME:BST
DTSTART:20140330T010000
END:DAYLIGHT
BEGIN:STANDARD
TZOFFSETFROM:+0100
TZOFFSETTO:+0000
TZNAME:GMT
DTSTART:20141026T010000
END:STANDARD
BEGIN:DAYLIGHT
TZOFFSETFROM:+0000
TZOFFSETTO:+0100
TZNAME:BST
DTSTART:20150329T010000
END:DAYLIGHT
BEGIN:STANDARD
TZOFFSETFROM:+0100
TZOFFSETTO:+0000
TZNAME:GMT
DTSTART:20151025T010000
END:STANDARD
BEGIN:DAYLIGHT
TZOFFSETFROM:+0000
TZOFFSETTO:+0100
TZNAME:BST
DTSTART:20160327T010000
END:DAYLIGHT
BEGIN:STANDARD
TZOFFSETFROM:+0100
TZOFFSETTO:+0000
TZNAME:GMT
DTSTART:20161030T010000
END:STANDARD
END:VTIMEZONE
BEGIN:VEVENT
DTSTART;VALUE=DATE:20150729
DTEND;VALUE=DATE:20150730
DTSTAMP:20260424T230510
CREATED:20150521T141551Z
LAST-MODIFIED:20150521T141551Z
UID:10004797-1438128000-1438214399@www.malloryparkcircuit.com
SUMMARY:Supercar Drive Days
DESCRIPTION:Supercar Drive Days\n \nEver wanted to drive a Ferrari round the track\, or take a spin in a Lamborghini?  Supercar Drive Days give you the chance to take a supercar on a heart-pumping tour of the Mallory Park Circuit. Mallory Park provides a stimulating but safe environment where drivers of all abilities are invited to enjoy a unique track experience. \nIf you have a voucher for a Supercar Driving Blast\, please contact Supercar Drive Days directly to book your space.
URL:https://www.malloryparkcircuit.com/event/supercar-drive-days-2-2/
LOCATION:Privacy Policy
END:VEVENT
BEGIN:VEVENT
DTSTART;VALUE=DATE:20150729
DTEND;VALUE=DATE:20150730
DTSTAMP:20260424T230510
CREATED:20150521T141551Z
LAST-MODIFIED:20190213T121517Z
UID:10004656-1438128000-1438214399@www.malloryparkcircuit.com
SUMMARY:Supercar Drive Days
DESCRIPTION:Supercar Drive Days\n \nEver wanted to drive a Ferrari round the track\, or take a spin in a Lamborghini?  Supercar Drive Days give you the chance to take a supercar on a heart-pumping tour of the Mallory Park Circuit. Mallory Park provides a stimulating but safe environment where drivers of all abilities are invited to enjoy a unique track experience. \nIf you have a voucher for a Supercar Driving Blast\, please contact Supercar Drive Days directly to book your space.
URL:https://www.malloryparkcircuit.com/event/supercar-drive-days-2/
LOCATION:Privacy Policy
CATEGORIES:Car Events,Car Track Days
END:VEVENT
BEGIN:VEVENT
DTSTART;TZID=Europe/London:20150710T190000
DTEND;TZID=Europe/London:20150710T210000
DTSTAMP:20260424T230510
CREATED:20150429T150356Z
LAST-MODIFIED:20150429T150356Z
UID:10004650-1436554800-1436562000@www.malloryparkcircuit.com
SUMMARY:Steve Parrish 'mini' MAD Tour
DESCRIPTION:Steve Parrish ‘mini’ MAD Tour\nEx-BBC commentator\, motorcycle racer\, truck racer and the eternal practical joker Steve Parrish will take to the stage on Friday 10th July at the Mallory Bike Bonanza for an enjoyable evening of funny stories\, moving tales and sharing his passion for living life to the full! \nReminiscing of the days when PC stood for pulling crumpet and Health and Safety hadn’t been invented\, Steve will give you an incite into his MAD life with snippets from his successful MAD Tour. \nTickets price: £12 – available to purchase online NOW! \nPlease note: The ‘mini’ MAD Tour is strictly a ticket only event\, exclusively for Bike Bonanza weekend ticket holders.
URL:https://www.malloryparkcircuit.com/event/steve-parrish-mini-mad-tour/
LOCATION:Privacy Policy
END:VEVENT
BEGIN:VEVENT
DTSTART;TZID=Europe/London:20150710T190000
DTEND;TZID=Europe/London:20150710T210000
DTSTAMP:20260424T230510
CREATED:20150429T150356Z
LAST-MODIFIED:20150429T150356Z
UID:10004793-1436554800-1436562000@www.malloryparkcircuit.com
SUMMARY:Steve Parrish 'mini' MAD Tour
DESCRIPTION:Steve Parrish ‘mini’ MAD Tour\nEx-BBC commentator\, motorcycle racer\, truck racer and the eternal practical joker Steve Parrish will take to the stage on Friday 10th July at the Mallory Bike Bonanza for an enjoyable evening of funny stories\, moving tales and sharing his passion for living life to the full! \nReminiscing of the days when PC stood for pulling crumpet and Health and Safety hadn’t been invented\, Steve will give you an incite into his MAD life with snippets from his successful MAD Tour. \nTickets price: £12 – available to purchase online NOW! \nPlease note: The ‘mini’ MAD Tour is strictly a ticket only event\, exclusively for Bike Bonanza weekend ticket holders.
URL:https://www.malloryparkcircuit.com/event/steve-parrish-mini-mad-tour-2/
LOCATION:Privacy Policy
END:VEVENT
BEGIN:VEVENT
DTSTART;VALUE=DATE:20150523
DTEND;VALUE=DATE:20150525
DTSTAMP:20260424T230510
CREATED:20150224T095437Z
LAST-MODIFIED:20150224T095437Z
UID:10004788-1432339200-1432511999@www.malloryparkcircuit.com
SUMMARY:BARC Classic Touring Car Championship
DESCRIPTION:BARC Classic Touring Car Championship\nThe BARC will return to Mallory Park over the May Spring Bank Holiday Weekend with the Classic Touring Car Championship. With classes ranging from pre 1966\, pre 1983\, pre 1993 and pre 2005 there is something for all the family to enjoy. \n  \nTimetable:\nGates Open – 08:30am\nPractice Starts – 09:30am\nRacing Starts – 11:00am approx. \nTickets are available to purchase on the gate on the day.\n£12 Adult\n£10 Senior Concession\nChildren U16 go free when accompanied by a full paying adult. \nFor more information on this event\, visit the BARC website here.
URL:https://www.malloryparkcircuit.com/event/barc-ctcc-2/
LOCATION:Privacy Policy
END:VEVENT
BEGIN:VEVENT
DTSTART;VALUE=DATE:20150523
DTEND;VALUE=DATE:20150525
DTSTAMP:20260424T230510
CREATED:20150224T095437Z
LAST-MODIFIED:20190213T121153Z
UID:10004584-1432339200-1432511999@www.malloryparkcircuit.com
SUMMARY:BARC Classic Touring Car Championship
DESCRIPTION:BARC Classic Touring Car Championship\nThe BARC will return to Mallory Park over the May Spring Bank Holiday Weekend with the Classic Touring Car Championship. With classes ranging from pre 1966\, pre 1983\, pre 1993 and pre 2005 there is something for all the family to enjoy. \n  \nTimetable:\nGates Open – 08:30am\nPractice Starts – 09:30am\nRacing Starts – 11:00am approx. \nTickets are available to purchase on the gate on the day.\n£12 Adult\n£10 Senior Concession\nChildren U16 go free when accompanied by a full paying adult. \nFor more information on this event\, visit the BARC website here.
URL:https://www.malloryparkcircuit.com/event/barc-ctcc/
LOCATION:Privacy Policy
CATEGORIES:Car Events,Car Race Days
END:VEVENT
END:VCALENDAR