BEGIN:VCALENDAR
VERSION:2.0
PRODID:-//Mallory Park Circuit - ECPv6.15.18//NONSGML v1.0//EN
CALSCALE:GREGORIAN
METHOD:PUBLISH
X-WR-CALNAME:Mallory Park Circuit
X-ORIGINAL-URL:https://www.malloryparkcircuit.com
X-WR-CALDESC:Events for Mallory Park Circuit
REFRESH-INTERVAL;VALUE=DURATION:PT1H
X-Robots-Tag:noindex
X-PUBLISHED-TTL:PT1H
BEGIN:VTIMEZONE
TZID:Europe/London
BEGIN:DAYLIGHT
TZOFFSETFROM:+0000
TZOFFSETTO:+0100
TZNAME:BST
DTSTART:20250330T010000
END:DAYLIGHT
BEGIN:STANDARD
TZOFFSETFROM:+0100
TZOFFSETTO:+0000
TZNAME:GMT
DTSTART:20251026T010000
END:STANDARD
BEGIN:DAYLIGHT
TZOFFSETFROM:+0000
TZOFFSETTO:+0100
TZNAME:BST
DTSTART:20260329T010000
END:DAYLIGHT
BEGIN:STANDARD
TZOFFSETFROM:+0100
TZOFFSETTO:+0000
TZNAME:GMT
DTSTART:20261025T010000
END:STANDARD
BEGIN:DAYLIGHT
TZOFFSETFROM:+0000
TZOFFSETTO:+0100
TZNAME:BST
DTSTART:20270328T010000
END:DAYLIGHT
BEGIN:STANDARD
TZOFFSETFROM:+0100
TZOFFSETTO:+0000
TZNAME:GMT
DTSTART:20271031T010000
END:STANDARD
END:VTIMEZONE
BEGIN:VEVENT
DTSTART;VALUE=DATE:20261217
DTEND;VALUE=DATE:20261218
DTSTAMP:20260420T131903
CREATED:20241104T081416Z
LAST-MODIFIED:20260415T111321Z
UID:10005673-1797465600-1797551999@www.malloryparkcircuit.com
SUMMARY:No Limits Trackdays
DESCRIPTION:No Limits Trackdays\nDo you want to experience the thrill of riding around a race circuit on your own motorcycle? Then a No Limits Trackday is for you.  They allow you the opportunity to ride your own bike away from the open road with no oncoming traffic or speed cameras and with no need for a race licence.  Trackdays are sociable and low pressure events where the emphasis is on fun\, there are no laps that are timed and there should be no element of competition\, just a fun\, safe and value-for-money experience. \nFor more information on this event please click here.
URL:https://www.malloryparkcircuit.com/event/no-limits-trackdays-63-2025-10-11/2026-12-17/1/
CATEGORIES:Bike Events,Bike Track Days
ATTACH;FMTTYPE=image/png:https://www.malloryparkcircuit.com/wp-content/uploads/2020/01/Copy-of-Untitled-1.png
END:VEVENT
BEGIN:VEVENT
DTSTART;VALUE=DATE:20261217
DTEND;VALUE=DATE:20261218
DTSTAMP:20260420T131903
CREATED:20241104T081416Z
LAST-MODIFIED:20260415T111321Z
UID:10005674-1797494400-1797526800@www.malloryparkcircuit.com
SUMMARY:No Limits Trackdays
DESCRIPTION:No Limits Trackdays\nDo you want to experience the thrill of riding around a race circuit on your own motorcycle? Then a No Limits Trackday is for you.  They allow you the opportunity to ride your own bike away from the open road with no oncoming traffic or speed cameras and with no need for a race licence.  Trackdays are sociable and low pressure events where the emphasis is on fun\, there are no laps that are timed and there should be no element of competition\, just a fun\, safe and value-for-money experience. \nFor more information on this event please click here.
URL:https://www.malloryparkcircuit.com/event/no-limits-trackdays-63-2025-10-11/2026-12-17/2/
CATEGORIES:Bike Events,Bike Track Days
ATTACH;FMTTYPE=image/png:https://www.malloryparkcircuit.com/wp-content/uploads/2020/01/Copy-of-Untitled-1.png
END:VEVENT
BEGIN:VEVENT
DTSTART;VALUE=DATE:20261226
DTEND;VALUE=DATE:20261227
DTSTAMP:20260420T131903
CREATED:20250204T151944Z
LAST-MODIFIED:20260209T114803Z
UID:10004932-1798243200-1798329599@www.malloryparkcircuit.com
SUMMARY:Plum Pudding Race Meeting
DESCRIPTION:Further details and times to follow. \nBuy tickets; Click here \n  \n 
URL:https://www.malloryparkcircuit.com/event/plum-pudding-race-meeting/
CATEGORIES:Bike Events,Bike Race Days,Car Events,Car Race Days,EMRA
ATTACH;FMTTYPE=image/png:https://www.malloryparkcircuit.com/wp-content/uploads/2025/02/FW-FB-Logo-4.png
END:VEVENT
END:VCALENDAR