BEGIN:VCALENDAR
VERSION:2.0
PRODID:-//Mallory Park Circuit - ECPv6.15.18//NONSGML v1.0//EN
CALSCALE:GREGORIAN
METHOD:PUBLISH
X-WR-CALNAME:Mallory Park Circuit
X-ORIGINAL-URL:https://www.malloryparkcircuit.com
X-WR-CALDESC:Events for Mallory Park Circuit
REFRESH-INTERVAL;VALUE=DURATION:PT1H
X-Robots-Tag:noindex
X-PUBLISHED-TTL:PT1H
BEGIN:VTIMEZONE
TZID:Europe/London
BEGIN:DAYLIGHT
TZOFFSETFROM:+0000
TZOFFSETTO:+0100
TZNAME:BST
DTSTART:20200329T010000
END:DAYLIGHT
BEGIN:STANDARD
TZOFFSETFROM:+0100
TZOFFSETTO:+0000
TZNAME:GMT
DTSTART:20201025T010000
END:STANDARD
BEGIN:DAYLIGHT
TZOFFSETFROM:+0000
TZOFFSETTO:+0100
TZNAME:BST
DTSTART:20210328T010000
END:DAYLIGHT
BEGIN:STANDARD
TZOFFSETFROM:+0100
TZOFFSETTO:+0000
TZNAME:GMT
DTSTART:20211031T010000
END:STANDARD
BEGIN:DAYLIGHT
TZOFFSETFROM:+0000
TZOFFSETTO:+0100
TZNAME:BST
DTSTART:20220327T010000
END:DAYLIGHT
BEGIN:STANDARD
TZOFFSETFROM:+0100
TZOFFSETTO:+0000
TZNAME:GMT
DTSTART:20221030T010000
END:STANDARD
END:VTIMEZONE
BEGIN:VEVENT
DTSTART;VALUE=DATE:20210604
DTEND;VALUE=DATE:20210605
DTSTAMP:20260425T135523
CREATED:20210225T092601Z
LAST-MODIFIED:20210517T135708Z
UID:10005140-1622764800-1622851199@www.malloryparkcircuit.com
SUMMARY:No Limits Trackdays
DESCRIPTION:No Limits Trackdays\nDo you want to experience the thrill of riding around a race circuit on your own motorcycle? Then a No Limits Trackday is for you.  They allow you the opportunity to ride your own bike away from the open road with no oncoming traffic or speed cameras and with no need for a race licence.  Trackdays are sociable and low pressure events where the emphasis is on fun\, there are no laps that are timed and there should be no element of competition\, just a fun\, safe and value-for-money experience. \nFor more information on this event please click here. \n  \nCovid-19 Information\nTrackday access is restricted to one driver and one essential helper. You will be asked to show proof of your event booking on arrival.  Trackdays will remain closed to spectators until further notice. \nOur Covid-19 guidance can be downloaded here.
URL:https://www.malloryparkcircuit.com/event/no-limits-trackdays-9/
CATEGORIES:Bike Events,Bike Track Days
ATTACH;FMTTYPE=image/png:https://www.malloryparkcircuit.com/wp-content/uploads/2020/01/Copy-of-Untitled-1.png
END:VEVENT
BEGIN:VEVENT
DTSTART;VALUE=DATE:20210606
DTEND;VALUE=DATE:20210607
DTSTAMP:20260425T135523
CREATED:20210107T120106Z
LAST-MODIFIED:20210517T125835Z
UID:10004855-1622937600-1623023999@www.malloryparkcircuit.com
SUMMARY:East Midland Racing Association RD2
DESCRIPTION:Don’t miss round 2 of the East Midland Racing Association Championship. \nFor more information about the EMRA series\, visit their website here. \n  \nSpectating\nRace events are open to spectators holding a valid pre-booked ticket only. Tickets will not be available to purchase on the gate. Paddock access is prohibited.  Spectator access around the circuit perimeter only.  Spectator groups are restricted to a maximum 30 person gathering. We advise you to remain cautious when interacting with people you do not live with.\nAdult £15\nChildren U14 go free when accompanied by a full paying adult. \n \n\nBook Now\n  \nOur Covid-19 guidance can be downloaded here. \n \n 
URL:https://www.malloryparkcircuit.com/event/emra-9/
CATEGORIES:Bike Events,Bike Race Days,EMRA
ATTACH;FMTTYPE=image/jpeg:https://www.malloryparkcircuit.com/wp-content/uploads/2021/01/010107.jpg
END:VEVENT
BEGIN:VEVENT
DTSTART;VALUE=DATE:20210609
DTEND;VALUE=DATE:20210610
DTSTAMP:20260425T135523
CREATED:20210225T100301Z
LAST-MODIFIED:20210517T135756Z
UID:10004879-1623196800-1623283199@www.malloryparkcircuit.com
SUMMARY:Javelin Trackdays
DESCRIPTION:Javelin Trackdays (Formula Event) \nDo you have a Formula (single seater\, open wheel) race or sprint car? Do you want to experience the thrill of driving it around a race circuit? Then the all new ‘Formula Trackday’ hosted by Javelin Trackdays is the event for you.  This new format allows you the opportunity to drive your own single seater car away from the open road with no oncoming traffic or speed cameras.  Formula Trackdays will take place in conjunction with a sessioned trackday\, with Formula cars getting 20 minutes tracktime per hour. Other groups on the day will run for Closed Wheel Novices and Club / Marque Specific.  Trackdays are sociable and low pressure events where the emphasis is on fun\, there are no laps that are timed and there should be no element of competition. \nFor more information on this event please click here. \n  \nCovid-19 Information\nTrackday access is restricted to one driver and one essential helper. You will be asked to show proof of your event booking on arrival.  Trackdays will remain closed to spectators until further notice. \nOur Covid-19 guidance can be downloaded here.
URL:https://www.malloryparkcircuit.com/event/javelin-trackdays-4/
CATEGORIES:Car Events,Car Track Days
ATTACH;FMTTYPE=image/png:https://www.malloryparkcircuit.com/wp-content/uploads/2020/01/Javlin.png
END:VEVENT
BEGIN:VEVENT
DTSTART;VALUE=DATE:20210611
DTEND;VALUE=DATE:20210612
DTSTAMP:20260425T135523
CREATED:20210225T101601Z
LAST-MODIFIED:20210517T135859Z
UID:10005163-1623369600-1623455999@www.malloryparkcircuit.com
SUMMARY:Javelin Trackdays
DESCRIPTION:Javelin Trackdays (Open Pit Lane Events) \nDo you want to experience the thrill of driving around a race circuit in your own car? Then a Javelin Trackday is for you.  They allow you the opportunity to drive your own car away from the open road with no oncoming traffic or speed cameras. Trackdays are sociable and low pressure events where the emphasis is on fun\, there are no laps that are timed and there should be no element of competition. \nFor more information on this event\, please click here. \n  \nCovid-19 Information\nTrackday access is restricted to one driver and one essential helper. You will be asked to show proof of your event booking on arrival.  Trackdays will remain closed to spectators until further notice. \nOur Covid-19 guidance can be downloaded here.
URL:https://www.malloryparkcircuit.com/event/javelin-trackdays-12/
CATEGORIES:Car Events,Car Track Days
ATTACH;FMTTYPE=image/png:https://www.malloryparkcircuit.com/wp-content/uploads/2020/01/Javlin.png
END:VEVENT
BEGIN:VEVENT
DTSTART;VALUE=DATE:20210612
DTEND;VALUE=DATE:20210613
DTSTAMP:20260425T135523
CREATED:20210225T104339Z
LAST-MODIFIED:20210517T134747Z
UID:10005180-1623456000-1623542399@www.malloryparkcircuit.com
SUMMARY:Supercar Driving Experiences with Everyman Racing
DESCRIPTION:Ever wanted to drive a Ferrari round the track\, or take a spin in a Lamborghini? Everyman Racing Driving Experiences give you the chance to take a supercar on a heart-pumping tour of the Mallory Park Circuit. Mallory Park provides a stimulating but safe environment where drivers of all abilities are invited to enjoy a unique track experience. \nDo you have a voucher to redeem?\nWe regret that the circuit office cannot take bookings\, or advise on availability for driving experiences. Please contact Everyman Racing directly to book your experience. \n  \nCovid-19 Information\nExperience day access is restricted to one driver and one essential helper. You will be asked to show proof of your event booking on arrival.  Experience days will remain closed to spectators until further notice. \n  \nOur Covid-19 guidance can be downloaded here.
URL:https://www.malloryparkcircuit.com/event/supercar-driving-experiences-with-everyman-racing-3/
CATEGORIES:Car Events,Car Track Days
ATTACH;FMTTYPE=image/jpeg:https://www.malloryparkcircuit.com/wp-content/uploads/2020/01/Logo.jpg
END:VEVENT
BEGIN:VEVENT
DTSTART;VALUE=DATE:20210613
DTEND;VALUE=DATE:20210614
DTSTAMP:20260425T135523
CREATED:20210514T154945Z
LAST-MODIFIED:20210517T133909Z
UID:10004849-1623542400-1623628799@www.malloryparkcircuit.com
SUMMARY:Classic and Modern Motorsport Club
DESCRIPTION:The Classic and Modern Motorsport Club return this June with the ever popular mix of classic bikes and cars. Expect to see a packed day of entertainment featuring period 500cc Formula 3\, the Lansdowne Classic motorcycle series\,  Modified Fords\, MG Metro Cup\, Intermarque Silhouettes\, Super Saloons and even the WRDA (Welsh Racing Drivers Association). \nSpectating\nRace events are open to spectators holding a valid pre-booked ticket only. Tickets will not be available to purchase on the gate. Paddock access is prohibited.  Spectator access around the circuit perimeter only.  Spectator groups are restricted to a maximum 30 person gathering. We advise you to remain cautious when interacting with people you do not live with.\nAdult £15\nChildren U14 go free when accompanied by a full paying adult. \n\nBook Now\n  \nOur Covid-19 guidance can be downloaded here. \n \n 
URL:https://www.malloryparkcircuit.com/event/classic-and-modern-motorsport-club/
CATEGORIES:Car Events,Car Race Days
ATTACH;FMTTYPE=image/jpeg:https://www.malloryparkcircuit.com/wp-content/uploads/2021/05/MG_0716-scaled.jpg
END:VEVENT
BEGIN:VEVENT
DTSTART;VALUE=DATE:20210616
DTEND;VALUE=DATE:20210617
DTSTAMP:20260425T135523
CREATED:20210225T103137Z
LAST-MODIFIED:20210517T134825Z
UID:10005176-1623801600-1623887999@www.malloryparkcircuit.com
SUMMARY:6th Gear Experience Days
DESCRIPTION:Ever wanted to drive a Ferrari round the track\, or take a spin in a Lamborghini? Everyman Racing Driving Experiences give you the chance to take a supercar on a heart-pumping tour of the Mallory Park Circuit. Mallory Park provides a stimulating but safe environment where drivers of all abilities are invited to enjoy a unique track experience. \nDo you have a voucher to redeem?\nWe regret that the circuit office cannot take bookings\, or advise on availability for driving experiences. Please contact 6th Gear directly to book your experience. \n  \nCovid-19 Information\nExperience day access is restricted to one driver and one essential helper. You will be asked to show proof of your event booking on arrival.  Experience days will remain closed to spectators until further notice. \n  \nOur Covid-19 guidance can be downloaded here.
URL:https://www.malloryparkcircuit.com/event/6th-gear-experience-days/
CATEGORIES:Car Events,Car Track Days
ATTACH;FMTTYPE=image/jpeg:https://www.malloryparkcircuit.com/wp-content/uploads/2020/12/6th-Gear.jpg
END:VEVENT
BEGIN:VEVENT
DTSTART;VALUE=DATE:20210617
DTEND;VALUE=DATE:20210618
DTSTAMP:20260425T135523
CREATED:20210225T101652Z
LAST-MODIFIED:20210517T140010Z
UID:10005165-1623888000-1623974399@www.malloryparkcircuit.com
SUMMARY:Javelin Trackdays
DESCRIPTION:Javelin Trackdays (Open Pit Lane Events) \nDo you want to experience the thrill of driving around a race circuit in your own car? Then a Javelin Trackday is for you.  They allow you the opportunity to drive your own car away from the open road with no oncoming traffic or speed cameras. Trackdays are sociable and low pressure events where the emphasis is on fun\, there are no laps that are timed and there should be no element of competition. \nFor more information on this event\, please click here. \n  \nCovid-19 Information\nTrackday access is restricted to one driver and one essential helper. You will be asked to show proof of your event booking on arrival.  Trackdays will remain closed to spectators until further notice. \nOur Covid-19 guidance can be downloaded here.
URL:https://www.malloryparkcircuit.com/event/javelin-trackdays-13/
CATEGORIES:Car Events,Car Track Days
ATTACH;FMTTYPE=image/png:https://www.malloryparkcircuit.com/wp-content/uploads/2020/01/Javlin.png
END:VEVENT
BEGIN:VEVENT
DTSTART;VALUE=DATE:20210618
DTEND;VALUE=DATE:20210619
DTSTAMP:20260425T135523
CREATED:20210225T092707Z
LAST-MODIFIED:20210517T140034Z
UID:10005141-1623974400-1624060799@www.malloryparkcircuit.com
SUMMARY:No Limits Trackdays
DESCRIPTION:No Limits Trackdays\nDo you want to experience the thrill of riding around a race circuit on your own motorcycle? Then a No Limits Trackday is for you.  They allow you the opportunity to ride your own bike away from the open road with no oncoming traffic or speed cameras and with no need for a race licence.  Trackdays are sociable and low pressure events where the emphasis is on fun\, there are no laps that are timed and there should be no element of competition\, just a fun\, safe and value-for-money experience. \nFor more information on this event please click here. \n  \nCovid-19 Information\nTrackday access is restricted to one driver and one essential helper. You will be asked to show proof of your event booking on arrival.  Trackdays will remain closed to spectators until further notice. \nOur Covid-19 guidance can be downloaded here.
URL:https://www.malloryparkcircuit.com/event/no-limits-trackdays-10/
CATEGORIES:Bike Events,Bike Track Days
ATTACH;FMTTYPE=image/png:https://www.malloryparkcircuit.com/wp-content/uploads/2020/01/Copy-of-Untitled-1.png
END:VEVENT
BEGIN:VEVENT
DTSTART;VALUE=DATE:20210622
DTEND;VALUE=DATE:20210623
DTSTAMP:20260425T135523
CREATED:20210225T111201Z
LAST-MODIFIED:20210517T140128Z
UID:10005189-1624320000-1624406399@www.malloryparkcircuit.com
SUMMARY:ARDS Testing
DESCRIPTION:The Motorsports School \nThe Motorsport School at Mallory Park offers ARDS tests\, the required course for candidates to acquire their MSUK National ‘B’ Race Licence the minimum requirement to compete in circuit races. \n  \nCovid-19 Information\nTrackday access is restricted to one driver and one essential helper. You will be asked to show proof of your event booking on arrival.  Trackdays will remain closed to spectators until further notice. \nOur Covid-19 guidance can be downloaded here.
URL:https://www.malloryparkcircuit.com/event/ards-testing/
CATEGORIES:Car Events,Car Track Days
ATTACH;FMTTYPE=image/png:https://www.malloryparkcircuit.com/wp-content/uploads/2020/01/ARDS-Camera.png
END:VEVENT
BEGIN:VEVENT
DTSTART;VALUE=DATE:20210626
DTEND;VALUE=DATE:20210628
DTSTAMP:20260425T135523
CREATED:20210521T151033Z
LAST-MODIFIED:20210521T151814Z
UID:10004906-1624665600-1624838399@www.malloryparkcircuit.com
SUMMARY:Thundersport GB
DESCRIPTION:Thundersport GB\nMore information coming soon! \nSpectating\nRace events are open to spectators\, subject to the latest Government guidelines. \n\nBook Now\n  \nOur Covid-19 guidance can be downloaded here. \n \n 
URL:https://www.malloryparkcircuit.com/event/thundersport-gb-2/
CATEGORIES:Bike Events,Bike Race Days
ATTACH;FMTTYPE=image/jpeg:https://www.malloryparkcircuit.com/wp-content/uploads/2021/05/IMG_0836-scaled.jpg
END:VEVENT
END:VCALENDAR