BEGIN:VCALENDAR
VERSION:2.0
PRODID:-//Mallory Park Circuit - ECPv6.15.18//NONSGML v1.0//EN
CALSCALE:GREGORIAN
METHOD:PUBLISH
X-WR-CALNAME:Mallory Park Circuit
X-ORIGINAL-URL:https://www.malloryparkcircuit.com
X-WR-CALDESC:Events for Mallory Park Circuit
REFRESH-INTERVAL;VALUE=DURATION:PT1H
X-Robots-Tag:noindex
X-PUBLISHED-TTL:PT1H
BEGIN:VTIMEZONE
TZID:Europe/London
BEGIN:DAYLIGHT
TZOFFSETFROM:+0000
TZOFFSETTO:+0100
TZNAME:BST
DTSTART:20200329T010000
END:DAYLIGHT
BEGIN:STANDARD
TZOFFSETFROM:+0100
TZOFFSETTO:+0000
TZNAME:GMT
DTSTART:20201025T010000
END:STANDARD
BEGIN:DAYLIGHT
TZOFFSETFROM:+0000
TZOFFSETTO:+0100
TZNAME:BST
DTSTART:20210328T010000
END:DAYLIGHT
BEGIN:STANDARD
TZOFFSETFROM:+0100
TZOFFSETTO:+0000
TZNAME:GMT
DTSTART:20211031T010000
END:STANDARD
BEGIN:DAYLIGHT
TZOFFSETFROM:+0000
TZOFFSETTO:+0100
TZNAME:BST
DTSTART:20220327T010000
END:DAYLIGHT
BEGIN:STANDARD
TZOFFSETFROM:+0100
TZOFFSETTO:+0000
TZNAME:GMT
DTSTART:20221030T010000
END:STANDARD
END:VTIMEZONE
BEGIN:VEVENT
DTSTART;VALUE=DATE:20210701
DTEND;VALUE=DATE:20210702
DTSTAMP:20260425T120349
CREATED:20210225T100355Z
LAST-MODIFIED:20210412T144957Z
UID:10004881-1625097600-1625183999@www.malloryparkcircuit.com
SUMMARY:Javelin Trackdays
DESCRIPTION:Javelin Trackdays (Formula Event) \nDo you have a Formula (single seater\, open wheel) race or sprint car? Do you want to experience the thrill of driving it around a race circuit? Then the all new ‘Formula Trackday’ hosted by Javelin Trackdays is the event for you.  This new format allows you the opportunity to drive your own single seater car away from the open road with no oncoming traffic or speed cameras.  Formula Trackdays will take place in conjunction with a sessioned trackday\, with Formula cars getting 20 minutes tracktime per hour. Other groups on the day will run for Closed Wheel Novices and Club / Marque Specific.  Trackdays are sociable and low pressure events where the emphasis is on fun\, there are no laps that are timed and there should be no element of competition. \nFor more information on this event please click here. \n 
URL:https://www.malloryparkcircuit.com/event/javelin-trackdays-5/
CATEGORIES:Car Events,Car Track Days
ATTACH;FMTTYPE=image/png:https://www.malloryparkcircuit.com/wp-content/uploads/2020/01/Javlin.png
END:VEVENT
BEGIN:VEVENT
DTSTART;VALUE=DATE:20210702
DTEND;VALUE=DATE:20210703
DTSTAMP:20260425T120349
CREATED:20210225T101752Z
LAST-MODIFIED:20210412T145727Z
UID:10005166-1625184000-1625270399@www.malloryparkcircuit.com
SUMMARY:Javelin Trackdays
DESCRIPTION:Javelin Trackdays (Open Pit Lane Events) \nDo you want to experience the thrill of driving around a race circuit in your own car? Then a Javelin Trackday is for you.  They allow you the opportunity to drive your own car away from the open road with no oncoming traffic or speed cameras. Trackdays are sociable and low pressure events where the emphasis is on fun\, there are no laps that are timed and there should be no element of competition. \nFor more information on this event\, please click here. \n 
URL:https://www.malloryparkcircuit.com/event/javelin-trackdays-14/
CATEGORIES:Car Events,Car Track Days
ATTACH;FMTTYPE=image/png:https://www.malloryparkcircuit.com/wp-content/uploads/2020/01/Javlin.png
END:VEVENT
BEGIN:VEVENT
DTSTART;VALUE=DATE:20210706
DTEND;VALUE=DATE:20210707
DTSTAMP:20260425T120349
CREATED:20210225T113158Z
LAST-MODIFIED:20210225T113158Z
UID:10004909-1625529600-1625615999@www.malloryparkcircuit.com
SUMMARY:Institute of Advanced Motorists
DESCRIPTION:With 60 years’ experience IAM courses make our roads safer by coaching and education riders and drivers. \nTo find out more about the IAM RoadSmart courses running at Mallory Park in 2021\, visit the website https://www.iamroadsmart.com/ \n  \nCovid-19 Procedures\n \nhttps://www.malloryparkcircuit.com/covid-19-updates/ \n\nOnly participants and their essential helpers may attend. No-one else\, including spectating friends or family members\, will be permitted.\nDrivers from different households are permitted to share a vehicle providing the vehicle is sanitised between\nuse\, they cannot be in any vehicle at the same time (including travelling).\nUnder current guidelines\, overnight stays are not permitted. All travel to and from the circuit must be completed in the same day.
URL:https://www.malloryparkcircuit.com/event/institute-of-advanced-motorists/
CATEGORIES:Bike Events,Bike Track Days
ATTACH;FMTTYPE=image/png:https://www.malloryparkcircuit.com/wp-content/uploads/2020/01/IAM-logo-index.png
END:VEVENT
BEGIN:VEVENT
DTSTART;VALUE=DATE:20210710
DTEND;VALUE=DATE:20210712
DTSTAMP:20260425T120349
CREATED:20210107T121444Z
LAST-MODIFIED:20210624T152216Z
UID:10004856-1625875200-1626047999@www.malloryparkcircuit.com
SUMMARY:East Midland Racing Association RD3
DESCRIPTION:East Midland Racing Association host their mid-season double-header event on the 10/11th July. Supported by the FSRA British F2 and Pre-Injection sidecars\, it’s bound to be an adrenaline-fuelled weekend not to be missed! \nFor more information about the EMRA series\, visit their website https://www.eastmidlandracing.co.uk/ \nSpectating\nRace events are open to spectators\, subject to the latest Government guidelines. \nTickets available in advance only\nAdult (14+) £15\nChildren U14 go free when accompanied by a full paying adult.\nPaddock access is prohibited to enable social distancing.  Spectator access around the circuit perimeter only. \n\nBook Now\n  \nOur Covid-19 guidance can be downloaded here. \n \n 
URL:https://www.malloryparkcircuit.com/event/emra-10/
CATEGORIES:Bike Events,Bike Race Days,EMRA
ATTACH;FMTTYPE=image/jpeg:https://www.malloryparkcircuit.com/wp-content/uploads/2021/01/TK1_0188-scaled.jpg
END:VEVENT
BEGIN:VEVENT
DTSTART;VALUE=DATE:20210714
DTEND;VALUE=DATE:20210715
DTSTAMP:20260425T120349
CREATED:20210225T111259Z
LAST-MODIFIED:20210517T140245Z
UID:10005190-1626220800-1626307199@www.malloryparkcircuit.com
SUMMARY:ARDS Testing
DESCRIPTION:The Motorsports School \nThe Motorsport School at Mallory Park offers ARDS tests\, the required course for candidates to acquire their MSUK National ‘B’ Race Licence the minimum requirement to compete in circuit races. \n 
URL:https://www.malloryparkcircuit.com/event/ards-testing-2/
CATEGORIES:Car Events,Car Track Days
ATTACH;FMTTYPE=image/png:https://www.malloryparkcircuit.com/wp-content/uploads/2020/01/ARDS-Camera.png
END:VEVENT
BEGIN:VEVENT
DTSTART;VALUE=DATE:20210715
DTEND;VALUE=DATE:20210716
DTSTAMP:20260425T120349
CREATED:20210225T101928Z
LAST-MODIFIED:20210412T145745Z
UID:10005167-1626307200-1626393599@www.malloryparkcircuit.com
SUMMARY:Javelin Trackdays
DESCRIPTION:Javelin Trackdays (Open Pit Lane Events) \nDo you want to experience the thrill of driving around a race circuit in your own car? Then a Javelin Trackday is for you.  They allow you the opportunity to drive your own car away from the open road with no oncoming traffic or speed cameras. Trackdays are sociable and low pressure events where the emphasis is on fun\, there are no laps that are timed and there should be no element of competition. \nFor more information on this event\, please click here.
URL:https://www.malloryparkcircuit.com/event/javelin-trackdays-15/
CATEGORIES:Car Events,Car Track Days
ATTACH;FMTTYPE=image/png:https://www.malloryparkcircuit.com/wp-content/uploads/2020/01/Javlin.png
END:VEVENT
BEGIN:VEVENT
DTSTART;VALUE=DATE:20210716
DTEND;VALUE=DATE:20210717
DTSTAMP:20260425T120349
CREATED:20210225T092813Z
LAST-MODIFIED:20210412T150535Z
UID:10005142-1626393600-1626479999@www.malloryparkcircuit.com
SUMMARY:No Limits Trackdays
DESCRIPTION:No Limits Trackdays\nDo you want to experience the thrill of riding around a race circuit on your own motorcycle? Then a No Limits Trackday is for you.  They allow you the opportunity to ride your own bike away from the open road with no oncoming traffic or speed cameras and with no need for a race licence.  Trackdays are sociable and low pressure events where the emphasis is on fun\, there are no laps that are timed and there should be no element of competition\, just a fun\, safe and value-for-money experience. \nFor more information on this event please click here.
URL:https://www.malloryparkcircuit.com/event/no-limits-trackdays-11/
CATEGORIES:Bike Events,Bike Track Days
ATTACH;FMTTYPE=image/png:https://www.malloryparkcircuit.com/wp-content/uploads/2020/01/Copy-of-Untitled-1.png
END:VEVENT
BEGIN:VEVENT
DTSTART;VALUE=DATE:20210723
DTEND;VALUE=DATE:20210724
DTSTAMP:20260425T120349
CREATED:20210225T092932Z
LAST-MODIFIED:20210412T150552Z
UID:10005143-1626998400-1627084799@www.malloryparkcircuit.com
SUMMARY:No Limits Trackdays
DESCRIPTION:No Limits Trackdays\nDo you want to experience the thrill of riding around a race circuit on your own motorcycle? Then a No Limits Trackday is for you.  They allow you the opportunity to ride your own bike away from the open road with no oncoming traffic or speed cameras and with no need for a race licence.  Trackdays are sociable and low pressure events where the emphasis is on fun\, there are no laps that are timed and there should be no element of competition\, just a fun\, safe and value-for-money experience. \nFor more information on this event please click here.
URL:https://www.malloryparkcircuit.com/event/no-limits-trackdays-12/
CATEGORIES:Bike Events,Bike Track Days
ATTACH;FMTTYPE=image/png:https://www.malloryparkcircuit.com/wp-content/uploads/2020/01/Copy-of-Untitled-1.png
END:VEVENT
BEGIN:VEVENT
DTSTART;VALUE=DATE:20210724
DTEND;VALUE=DATE:20210725
DTSTAMP:20260425T120349
CREATED:20210225T104640Z
LAST-MODIFIED:20210225T104640Z
UID:10005181-1627084800-1627171199@www.malloryparkcircuit.com
SUMMARY:Supercar Driving Experiences with Everyman
DESCRIPTION:Ever wanted to drive a Ferrari round the track\, or take a spin in a Lamborghini? Everyman Racing Driving Experiences give you the chance to take a supercar on a heart-pumping tour of the Mallory Park Circuit. Mallory Park provides a stimulating but safe environment where drivers of all abilities are invited to enjoy a unique track experience.\nDo you have a voucher to redeem?\nWe regret that the circuit office cannot take bookings\, or advise on availability for driving experiences. Please contact the provider directly to book your experience. \nFor more information and to book your Everyman Experience day http://everymanracing.co.uk/ \n  \nCovid-19 Procedures \nhttps://www.malloryparkcircuit.com/covid-19-updates/ \n\nOnly participants and their essential helpers may attend. No-one else\, including spectating friends or family members\, will be permitted.\nDrivers from different households are permitted to share a vehicle providing the vehicle is sanitised between\nuse\, they cannot be in any vehicle at the same time (including travelling).\n\nUnder current guidelines\, overnight stays are not permitted. All travel to and from the circuit must be completed in the same day.
URL:https://www.malloryparkcircuit.com/event/supercar-driving-experiences-with-everyman/
CATEGORIES:Car Events,Car Track Days
ATTACH;FMTTYPE=image/jpeg:https://www.malloryparkcircuit.com/wp-content/uploads/2020/01/Logo.jpg
END:VEVENT
BEGIN:VEVENT
DTSTART;VALUE=DATE:20210725
DTEND;VALUE=DATE:20210726
DTSTAMP:20260425T120349
CREATED:20210225T093112Z
LAST-MODIFIED:20210412T150609Z
UID:10005144-1627171200-1627257599@www.malloryparkcircuit.com
SUMMARY:No Limits Trackdays
DESCRIPTION:No Limits Trackdays\nDo you want to experience the thrill of riding around a race circuit on your own motorcycle? Then a No Limits Trackday is for you.  They allow you the opportunity to ride your own bike away from the open road with no oncoming traffic or speed cameras and with no need for a race licence.  Trackdays are sociable and low pressure events where the emphasis is on fun\, there are no laps that are timed and there should be no element of competition\, just a fun\, safe and value-for-money experience. \nFor more information on this event please click here.
URL:https://www.malloryparkcircuit.com/event/no-limits-trackdays-13/
CATEGORIES:Bike Events,Bike Track Days
ATTACH;FMTTYPE=image/png:https://www.malloryparkcircuit.com/wp-content/uploads/2020/01/Copy-of-Untitled-1.png
END:VEVENT
BEGIN:VEVENT
DTSTART;VALUE=DATE:20210727
DTEND;VALUE=DATE:20210728
DTSTAMP:20260425T120349
CREATED:20210225T112652Z
LAST-MODIFIED:20210225T112652Z
UID:10005198-1627344000-1627430399@www.malloryparkcircuit.com
SUMMARY:Motorcycle Track Training with James Whitham
DESCRIPTION:James Whitham motorcycle track training days at Mallory Park Circuit are rider focused with the emphasis on practical coaching\, both on and off the track on the aspects of riding that you want to improve\, alongside one-to-one tuition from James and his team of riders that are at the top of their game. \nWith small groups\, you can expect high quality\, coached days that covers everything you need to know to give you the confidence to do your first track day\, or to improve and develop your riding and/or racing technique\, in a fun and relatively safe environment. The sessions are suitable for all riders from novice to advanced level. \nYou must provide a suitable bike which should have a maximum noise level of 98dB(A)\, an ACU approved helmet\, full leathers (can be 2 piece with full zip) and leather gloves. \nFor more information and to book your James Whitham training day visit https://www.jameswhitham.com/track-training#/ \n  \nCovid-19 Procedures\n \nhttps://www.malloryparkcircuit.com/covid-19-updates/ \n\nOnly participants and their essential helpers may attend. No-one else\, including spectating friends or family members\, will be permitted.\nDrivers from different households are permitted to share a vehicle providing the vehicle is sanitised between\nuse\, they cannot be in any vehicle at the same time (including travelling).\nUnder current guidelines\, overnight stays are not permitted. All travel to and from the circuit must be completed in the same day.
URL:https://www.malloryparkcircuit.com/event/motorcycle-track-training-with-james-whitham-3/
CATEGORIES:Bike Events,Bike Track Days
ATTACH;FMTTYPE=image/jpeg:https://www.malloryparkcircuit.com/wp-content/uploads/2016/02/350_190_crop_ee028eacc5885e636173c1e313980720.jpg
END:VEVENT
END:VCALENDAR